BEGIN:VCALENDAR
VERSION:2.0
PRODID:-//Eat Street Northshore - ECPv6.15.20//NONSGML v1.0//EN
CALSCALE:GREGORIAN
METHOD:PUBLISH
X-WR-CALNAME:Eat Street Northshore
X-ORIGINAL-URL:https://eatstreetnorthshore.com.au
X-WR-CALDESC:Events for Eat Street Northshore
REFRESH-INTERVAL;VALUE=DURATION:PT1H
X-Robots-Tag:noindex
X-PUBLISHED-TTL:PT1H
BEGIN:VTIMEZONE
TZID:Australia/Brisbane
BEGIN:STANDARD
TZOFFSETFROM:+1000
TZOFFSETTO:+1000
TZNAME:AEST
DTSTART:20250101T000000
END:STANDARD
END:VTIMEZONE
BEGIN:VEVENT
DTSTART;TZID=Australia/Brisbane:20260424T160000
DTEND;TZID=Australia/Brisbane:20260424T200000
DTSTAMP:20260421T175047
CREATED:20260419T075740Z
LAST-MODIFIED:20260419T075740Z
UID:10003839-1777046400-1777060800@eatstreetnorthshore.com.au
SUMMARY:AAVC Memorial Troupe (Ready for Anzac Day)
DESCRIPTION:
URL:https://eatstreetnorthshore.com.au/event/aavc-memorial-troupe-ready-for-anzac-day
LOCATION:Eat Street Northshore\, 221D Macarthur Avenue\, Hamilton\, QLD\, 4007\, Australia
CATEGORIES:Everywhere
ATTACH;FMTTYPE=image/jpeg:https://eatstreetnorthshore.com.au/wp-content/uploads/aavc-anzac-horse-5.jpg
END:VEVENT
BEGIN:VEVENT
DTSTART;TZID=Australia/Brisbane:20260424T173000
DTEND;TZID=Australia/Brisbane:20260424T193000
DTSTAMP:20260421T175047
CREATED:20260419T001734Z
LAST-MODIFIED:20260419T001734Z
UID:10003833-1777051800-1777059000@eatstreetnorthshore.com.au
SUMMARY:Mojo Dollz
DESCRIPTION:
URL:https://eatstreetnorthshore.com.au/event/mojo-dollz
LOCATION:Eat Street Northshore\, 221D Macarthur Avenue\, Hamilton\, QLD\, 4007\, Australia
CATEGORIES:Featured,MainDeck
ATTACH;FMTTYPE=image/jpeg:https://eatstreetnorthshore.com.au/wp-content/uploads/Mojo-Dollz-7.jpg
END:VEVENT
BEGIN:VEVENT
DTSTART;TZID=Australia/Brisbane:20260424T173000
DTEND;TZID=Australia/Brisbane:20260424T213000
DTSTAMP:20260421T175047
CREATED:20260419T001903Z
LAST-MODIFIED:20260419T001903Z
UID:10003834-1777051800-1777066200@eatstreetnorthshore.com.au
SUMMARY:DJ Jonny Drama
DESCRIPTION:
URL:https://eatstreetnorthshore.com.au/event/dj-jonny-drama
LOCATION:Eat Street Northshore\, 221D Macarthur Avenue\, Hamilton\, QLD\, 4007\, Australia
CATEGORIES:Featured,OpenSky
ATTACH;FMTTYPE=image/jpeg:https://eatstreetnorthshore.com.au/wp-content/uploads/dj-jonny-drama-1-e1774385789182.jpg
END:VEVENT
BEGIN:VEVENT
DTSTART;TZID=Australia/Brisbane:20260424T180000
DTEND;TZID=Australia/Brisbane:20260424T210000
DTSTAMP:20260421T175047
CREATED:20260419T003420Z
LAST-MODIFIED:20260419T003420Z
UID:10003838-1777053600-1777064400@eatstreetnorthshore.com.au
SUMMARY:Natasha Rose
DESCRIPTION:
URL:https://eatstreetnorthshore.com.au/event/natasha-rose-2
LOCATION:Eat Street Northshore\, 221D Macarthur Avenue\, Hamilton\, QLD\, 4007\, Australia
CATEGORIES:Featured,WhaleBar
ATTACH;FMTTYPE=image/jpeg:https://eatstreetnorthshore.com.au/wp-content/uploads/natasha-rose-stairs.jpg
END:VEVENT
BEGIN:VEVENT
DTSTART;TZID=Australia/Brisbane:20260424T183000
DTEND;TZID=Australia/Brisbane:20260424T183000
DTSTAMP:20260421T175047
CREATED:20260419T003033Z
LAST-MODIFIED:20260419T003033Z
UID:10003835-1777055400-1777055400@eatstreetnorthshore.com.au
SUMMARY:Heidi Mackay and her Film Dogs
DESCRIPTION:
URL:https://eatstreetnorthshore.com.au/event/heidi-mackay-and-her-film-dogs
LOCATION:Eat Street Northshore\, 221D Macarthur Avenue\, Hamilton\, QLD\, 4007\, Australia
CATEGORIES:Featured,OpenSky
ATTACH;FMTTYPE=image/jpeg:https://eatstreetnorthshore.com.au/wp-content/uploads/heidi-film-dogs.jpg
END:VEVENT
BEGIN:VEVENT
DTSTART;TZID=Australia/Brisbane:20260424T200000
DTEND;TZID=Australia/Brisbane:20260424T214500
DTSTAMP:20260421T175047
CREATED:20260413T033144Z
LAST-MODIFIED:20260413T033144Z
UID:10003828-1777060800-1777067100@eatstreetnorthshore.com.au
SUMMARY:GEED UP - "The Worst Show Ever"
DESCRIPTION:
URL:https://eatstreetnorthshore.com.au/event/geed-up-the-worst-show-ever-5
LOCATION:Eat Street Northshore\, 221D Macarthur Avenue\, Hamilton\, QLD\, 4007\, Australia
CATEGORIES:Featured,MainDeck
ATTACH;FMTTYPE=image/jpeg:https://eatstreetnorthshore.com.au/wp-content/uploads/geed-up-dance-ms-3-1.jpg
END:VEVENT
BEGIN:VEVENT
DTSTART;TZID=Australia/Brisbane:20260424T200000
DTEND;TZID=Australia/Brisbane:20260424T214500
DTSTAMP:20260421T175047
CREATED:20260419T003300Z
LAST-MODIFIED:20260419T003300Z
UID:10003837-1777060800-1777067100@eatstreetnorthshore.com.au
SUMMARY:Rene Le Feuvre
DESCRIPTION:
URL:https://eatstreetnorthshore.com.au/event/rene-le-feuvre
LOCATION:Eat Street Northshore\, 221D Macarthur Avenue\, Hamilton\, QLD\, 4007\, Australia
CATEGORIES:Featured,LaneWay
ATTACH;FMTTYPE=image/jpeg:https://eatstreetnorthshore.com.au/wp-content/uploads/rene-4.jpg
END:VEVENT
BEGIN:VEVENT
DTSTART;TZID=Australia/Brisbane:20260425T171500
DTEND;TZID=Australia/Brisbane:20260425T191500
DTSTAMP:20260421T175047
CREATED:20260419T075853Z
LAST-MODIFIED:20260419T075853Z
UID:10003840-1777137300-1777144500@eatstreetnorthshore.com.au
SUMMARY:Girl Friday
DESCRIPTION:
URL:https://eatstreetnorthshore.com.au/event/girl-friday-2
LOCATION:Eat Street Northshore\, 221D Macarthur Avenue\, Hamilton\, QLD\, 4007\, Australia
CATEGORIES:Featured,MainDeck
ATTACH;FMTTYPE=image/jpeg:https://eatstreetnorthshore.com.au/wp-content/uploads/girl-friday-main-1.jpg
END:VEVENT
BEGIN:VEVENT
DTSTART;TZID=Australia/Brisbane:20260425T173000
DTEND;TZID=Australia/Brisbane:20260425T193000
DTSTAMP:20260421T175047
CREATED:20260419T080444Z
LAST-MODIFIED:20260419T080444Z
UID:10003843-1777138200-1777145400@eatstreetnorthshore.com.au
SUMMARY:Bradley McCaw
DESCRIPTION:
URL:https://eatstreetnorthshore.com.au/event/bradley-mccaw-4
LOCATION:Eat Street Northshore\, 221D Macarthur Avenue\, Hamilton\, QLD\, 4007\, Australia
CATEGORIES:Featured,LaneWay
ATTACH;FMTTYPE=image/jpeg:https://eatstreetnorthshore.com.au/wp-content/uploads/Bradley-LaneWay.jpeg
END:VEVENT
BEGIN:VEVENT
DTSTART;TZID=Australia/Brisbane:20260425T173000
DTEND;TZID=Australia/Brisbane:20260425T213000
DTSTAMP:20260421T175047
CREATED:20260419T080332Z
LAST-MODIFIED:20260419T080332Z
UID:10003842-1777138200-1777152600@eatstreetnorthshore.com.au
SUMMARY:DJ Java
DESCRIPTION:
URL:https://eatstreetnorthshore.com.au/event/dj-java-4
LOCATION:Eat Street Northshore\, 221D Macarthur Avenue\, Hamilton\, QLD\, 4007\, Australia
CATEGORIES:Featured,OpenSky
ATTACH;FMTTYPE=image/jpeg:https://eatstreetnorthshore.com.au/wp-content/uploads/DJ-Java-1.jpg
END:VEVENT
BEGIN:VEVENT
DTSTART;TZID=Australia/Brisbane:20260425T180000
DTEND;TZID=Australia/Brisbane:20260425T210000
DTSTAMP:20260421T175047
CREATED:20260419T080703Z
LAST-MODIFIED:20260419T080703Z
UID:10003845-1777140000-1777150800@eatstreetnorthshore.com.au
SUMMARY:Matthew Copley
DESCRIPTION:
URL:https://eatstreetnorthshore.com.au/event/matthew-copley-2
LOCATION:Eat Street Northshore\, 221D Macarthur Avenue\, Hamilton\, QLD\, 4007\, Australia
CATEGORIES:Featured,WhaleBar
ATTACH;FMTTYPE=image/jpeg:https://eatstreetnorthshore.com.au/wp-content/uploads/matt-copley-main-stage-1-1.jpg
END:VEVENT
BEGIN:VEVENT
DTSTART;TZID=Australia/Brisbane:20260425T193000
DTEND;TZID=Australia/Brisbane:20260425T193000
DTSTAMP:20260421T175047
CREATED:20260419T080144Z
LAST-MODIFIED:20260419T080144Z
UID:10003841-1777145400-1777145400@eatstreetnorthshore.com.au
SUMMARY:Pacific Belles
DESCRIPTION:
URL:https://eatstreetnorthshore.com.au/event/pacific-belles
LOCATION:Eat Street Northshore\, 221D Macarthur Avenue\, Hamilton\, QLD\, 4007\, Australia
CATEGORIES:Featured,MainDeck
ATTACH;FMTTYPE=image/jpeg:https://eatstreetnorthshore.com.au/wp-content/uploads/pacific-belles-5.jpg
END:VEVENT
BEGIN:VEVENT
DTSTART;TZID=Australia/Brisbane:20260425T200000
DTEND;TZID=Australia/Brisbane:20260425T214500
DTSTAMP:20260421T175047
CREATED:20260413T033253Z
LAST-MODIFIED:20260413T033253Z
UID:10003829-1777147200-1777153500@eatstreetnorthshore.com.au
SUMMARY:Mojo Dollz Big Band
DESCRIPTION:
URL:https://eatstreetnorthshore.com.au/event/mojo-dollz-big-band
LOCATION:Eat Street Northshore\, 221D Macarthur Avenue\, Hamilton\, QLD\, 4007\, Australia
CATEGORIES:Featured,MainDeck
ATTACH;FMTTYPE=image/jpeg:https://eatstreetnorthshore.com.au/wp-content/uploads/mojo-dollz-main-stage-5-1.jpg
END:VEVENT
BEGIN:VEVENT
DTSTART;TZID=Australia/Brisbane:20260425T200000
DTEND;TZID=Australia/Brisbane:20260425T214500
DTSTAMP:20260421T175047
CREATED:20260419T080553Z
LAST-MODIFIED:20260419T080553Z
UID:10003844-1777147200-1777153500@eatstreetnorthshore.com.au
SUMMARY:Electro Swiggety
DESCRIPTION:
URL:https://eatstreetnorthshore.com.au/event/electro-swiggety-2
LOCATION:Eat Street Northshore\, 221D Macarthur Avenue\, Hamilton\, QLD\, 4007\, Australia
CATEGORIES:Featured,LaneWay
ATTACH;FMTTYPE=image/jpeg:https://eatstreetnorthshore.com.au/wp-content/uploads/electro-swiggety-laneway-e1776050234881.jpg
END:VEVENT
BEGIN:VEVENT
DTSTART;TZID=Australia/Brisbane:20260426T161500
DTEND;TZID=Australia/Brisbane:20260426T201500
DTSTAMP:20260421T175047
CREATED:20260419T081123Z
LAST-MODIFIED:20260419T081123Z
UID:10003847-1777220100-1777234500@eatstreetnorthshore.com.au
SUMMARY:DJ Jonny Drama
DESCRIPTION:
URL:https://eatstreetnorthshore.com.au/event/dj-jonny-drama-4
LOCATION:Eat Street Northshore\, 221D Macarthur Avenue\, Hamilton\, QLD\, 4007\, Australia
CATEGORIES:Featured,OpenSky
ATTACH;FMTTYPE=image/jpeg:https://eatstreetnorthshore.com.au/wp-content/uploads/jonny-off-site-3.jpg
END:VEVENT
BEGIN:VEVENT
DTSTART;TZID=Australia/Brisbane:20260426T163000
DTEND;TZID=Australia/Brisbane:20260426T193000
DTSTAMP:20260421T175047
CREATED:20260419T081327Z
LAST-MODIFIED:20260419T081327Z
UID:10003849-1777221000-1777231800@eatstreetnorthshore.com.au
SUMMARY:Ava Jayde
DESCRIPTION:
URL:https://eatstreetnorthshore.com.au/event/ava-jayde-2
LOCATION:Eat Street Northshore\, 221D Macarthur Avenue\, Hamilton\, QLD\, 4007\, Australia
CATEGORIES:Featured,WhaleBar
ATTACH;FMTTYPE=image/jpeg:https://eatstreetnorthshore.com.au/wp-content/uploads/ava-jayde-3-1.jpg
END:VEVENT
BEGIN:VEVENT
DTSTART;TZID=Australia/Brisbane:20260426T170000
DTEND;TZID=Australia/Brisbane:20260426T184500
DTSTAMP:20260421T175047
CREATED:20260419T081001Z
LAST-MODIFIED:20260419T081001Z
UID:10003846-1777222800-1777229100@eatstreetnorthshore.com.au
SUMMARY:The 8 Tracks
DESCRIPTION:
URL:https://eatstreetnorthshore.com.au/event/the-8-tracks
LOCATION:Eat Street Northshore\, 221D Macarthur Avenue\, Hamilton\, QLD\, 4007\, Australia
CATEGORIES:Featured,MainDeck
ATTACH;FMTTYPE=image/jpeg:https://eatstreetnorthshore.com.au/wp-content/uploads/the-8-tracks-5.jpg
END:VEVENT
BEGIN:VEVENT
DTSTART;TZID=Australia/Brisbane:20260426T170000
DTEND;TZID=Australia/Brisbane:20260426T184500
DTSTAMP:20260421T175047
CREATED:20260419T081232Z
LAST-MODIFIED:20260419T081232Z
UID:10003848-1777222800-1777229100@eatstreetnorthshore.com.au
SUMMARY:Lil B Trio
DESCRIPTION:
URL:https://eatstreetnorthshore.com.au/event/lil-b-trio-2
LOCATION:Eat Street Northshore\, 221D Macarthur Avenue\, Hamilton\, QLD\, 4007\, Australia
CATEGORIES:Featured,LaneWay
ATTACH;FMTTYPE=image/jpeg:https://eatstreetnorthshore.com.au/wp-content/uploads/LIL-2.jpg
END:VEVENT
BEGIN:VEVENT
DTSTART;TZID=Australia/Brisbane:20260426T190000
DTEND;TZID=Australia/Brisbane:20260426T204500
DTSTAMP:20260421T175047
CREATED:20260413T033414Z
LAST-MODIFIED:20260413T033414Z
UID:10003830-1777230000-1777236300@eatstreetnorthshore.com.au
SUMMARY:Sex & Chocolate
DESCRIPTION:
URL:https://eatstreetnorthshore.com.au/event/sex-chocolate-4
LOCATION:Eat Street Northshore\, 221D Macarthur Avenue\, Hamilton\, QLD\, 4007\, Australia
CATEGORIES:Featured,MainDeck
ATTACH;FMTTYPE=image/jpeg:https://eatstreetnorthshore.com.au/wp-content/uploads/sex-and-choc-1.jpg
END:VEVENT
BEGIN:VEVENT
DTSTART;TZID=Australia/Brisbane:20260510T120000
DTEND;TZID=Australia/Brisbane:20260510T200000
DTSTAMP:20260421T175047
CREATED:20260417T073342Z
LAST-MODIFIED:20260417T085624Z
UID:10003831-1778414400-1778443200@eatstreetnorthshore.com.au
SUMMARY:Mother's Day Sunday
DESCRIPTION:Brisbane’s Biggest Lunch is back this Mother’s Day at Eat Street Northshore!\nJoin us on Sunday\, 10th May with EXTENDED HOURS from 12PM – 8PM for a full day of amazing food\, live entertainment\, and special experiences for Mum.\n \n \n \n \nEVERY Mum receives a complimentary glass of sparkling wine 60+ micro restaurants & bars Make your own bouquet station Paint & Sip sessions Live music & roving entertainment\nPlus follow us to find out how you can go in the draw to win the ultimate Mother’s Day Experience valued at over $1\,000.\n \nBook now and reserve your spot today.\n \n \n \n \n \n \n \n \n \n \n \n			\n			\n				\n				\n				\n				\n				\n			\n				\n				\n				\n				\n			\n				\n				\n				\n				\n				\n				\n				\n				\n				\n				\n				\n			\n			\n				\n				\n				\n				\n			\n				\n				\n			\n				\n				\n				\n				\n				\n				\n				\n				\n				\n				\n				\n				\n				\n					Ava Jayde
URL:https://eatstreetnorthshore.com.au/event/mothers-day-2026
LOCATION:Eat Street Northshore\, 221D Macarthur Avenue\, Hamilton\, QLD\, 4007\, Australia
CATEGORIES:Featured,MainDeck
ATTACH;FMTTYPE=image/jpeg:https://eatstreetnorthshore.com.au/wp-content/uploads/260417-Mothers-Day-Poster-Artwork-1x1-1.jpg
END:VEVENT
END:VCALENDAR